BEGIN:VCALENDAR
VERSION:2.0
PRODID:-//hacksw/handcal//NONSGML v1.0//EN
BEGIN:VEVENT
SUMMARY:Challenge Omnisports
UID:379cdc06-30e2-4c2e-8cca-9cef68835dda
DTSTART:20260224T090000Z
DTEND:20260224T153000Z
LOCATION:Localisation Stade de ma ville 72000 LE MANS
CATEGORIES:Sportif
STATUS:
DESCRIPTION:<p>Le challenge Omnisports organise par le club debutera
 sur le grand stade de la ville.<br>Les prix seront remis en
 soiree.</p>
URL;VALUE=URI:https://uso-twirling.sportsregions.fr/evenements/2026/02/24/challenge-omnisports-2420286
END:VEVENT
BEGIN:VEVENT
SUMMARY:Championnat national individuel 2026
UID:8daf3d6f-2762-4d29-9619-9fc3fdbd1d49
DTSTART:20260411T050000Z
DTEND:20260411T160000Z
LOCATION:Localisation  72300 Sable sur Sarthe
CATEGORIES:Manifestation
STATUS:
URL;VALUE=URI:https://uso-twirling.sportsregions.fr/evenements/2026/04/11/championnat-national-individuel-2026-2437206
END:VEVENT
END:VCALENDAR
